BEGIN:VCALENDAR
VERSION:2.0
PRODID:-//Quiltblox.com - ECPv6.15.20//NONSGML v1.0//EN
CALSCALE:GREGORIAN
METHOD:PUBLISH
X-WR-CALNAME:Quiltblox.com
X-ORIGINAL-URL:https://quiltblox.com
X-WR-CALDESC:Events for Quiltblox.com
REFRESH-INTERVAL;VALUE=DURATION:PT1H
X-Robots-Tag:noindex
X-PUBLISHED-TTL:PT1H
BEGIN:VTIMEZONE
TZID:America/Los_Angeles
BEGIN:DAYLIGHT
TZOFFSETFROM:-0800
TZOFFSETTO:-0700
TZNAME:PDT
DTSTART:20250309T100000
END:DAYLIGHT
BEGIN:STANDARD
TZOFFSETFROM:-0700
TZOFFSETTO:-0800
TZNAME:PST
DTSTART:20251102T090000
END:STANDARD
BEGIN:DAYLIGHT
TZOFFSETFROM:-0800
TZOFFSETTO:-0700
TZNAME:PDT
DTSTART:20260308T100000
END:DAYLIGHT
BEGIN:STANDARD
TZOFFSETFROM:-0700
TZOFFSETTO:-0800
TZNAME:PST
DTSTART:20261101T090000
END:STANDARD
BEGIN:DAYLIGHT
TZOFFSETFROM:-0800
TZOFFSETTO:-0700
TZNAME:PDT
DTSTART:20270314T100000
END:DAYLIGHT
BEGIN:STANDARD
TZOFFSETFROM:-0700
TZOFFSETTO:-0800
TZNAME:PST
DTSTART:20271107T090000
END:STANDARD
END:VTIMEZONE
BEGIN:VEVENT
DTSTART;TZID=America/Los_Angeles:20261008T100000
DTEND;TZID=America/Los_Angeles:20261010T160000
DTSTAMP:20260420T063743
CREATED:20240820T134155Z
LAST-MODIFIED:20260113T235403Z
UID:8020-1791453600-1791648000@quiltblox.com
SUMMARY:Clark County Quilters - Quiltfest Northwest
DESCRIPTION:Our show theme this year: Golden Jubilee \n\n\n\nQuiltfest Northwest 2026 is the annual quilt show presented by the Clark County Quilters of Vancouver\, Washington. This judged show includes special and guest exhibits\, a vendor mall\, door prizes\, and more!  \n\n\n\n10:00am – 4:00 pm daily.
URL:https://quiltblox.com/event/clark-county-quilters-quiltfest-northwest/
LOCATION:Clark County Event Center\, 17402 NE Delfel Road\, Ridgefield\, Washington\, 98642
CATEGORIES:Quilt Shows
ATTACH;FMTTYPE=image/jpeg:https://quiltblox.com/wp-content/uploads/2024/08/Clark-County-Quilters-Quiltfest-Northwest-2026.jpg
END:VEVENT
END:VCALENDAR