BEGIN:VCALENDAR
VERSION:2.0
PRODID:-//Quiltblox.com - ECPv6.15.20//NONSGML v1.0//EN
CALSCALE:GREGORIAN
METHOD:PUBLISH
X-WR-CALNAME:Quiltblox.com
X-ORIGINAL-URL:https://quiltblox.com
X-WR-CALDESC:Events for Quiltblox.com
REFRESH-INTERVAL;VALUE=DURATION:PT1H
X-Robots-Tag:noindex
X-PUBLISHED-TTL:PT1H
BEGIN:VTIMEZONE
TZID:America/Los_Angeles
BEGIN:DAYLIGHT
TZOFFSETFROM:-0800
TZOFFSETTO:-0700
TZNAME:PDT
DTSTART:20240310T100000
END:DAYLIGHT
BEGIN:STANDARD
TZOFFSETFROM:-0700
TZOFFSETTO:-0800
TZNAME:PST
DTSTART:20241103T090000
END:STANDARD
BEGIN:DAYLIGHT
TZOFFSETFROM:-0800
TZOFFSETTO:-0700
TZNAME:PDT
DTSTART:20250309T100000
END:DAYLIGHT
BEGIN:STANDARD
TZOFFSETFROM:-0700
TZOFFSETTO:-0800
TZNAME:PST
DTSTART:20251102T090000
END:STANDARD
BEGIN:DAYLIGHT
TZOFFSETFROM:-0800
TZOFFSETTO:-0700
TZNAME:PDT
DTSTART:20260308T100000
END:DAYLIGHT
BEGIN:STANDARD
TZOFFSETFROM:-0700
TZOFFSETTO:-0800
TZNAME:PST
DTSTART:20261101T090000
END:STANDARD
END:VTIMEZONE
BEGIN:VEVENT
DTSTART;TZID=America/Los_Angeles:20250620T100000
DTEND;TZID=America/Los_Angeles:20250621T160000
DTSTAMP:20260422T031937
CREATED:20250130T145245Z
LAST-MODIFIED:20250130T145253Z
UID:10152-1750413600-1750521600@quiltblox.com
SUMMARY:Willamette Valley Quilters - Quilts in Bloom
DESCRIPTION:The Willamette Valley Quilters present the annual quilt show – Quilts in Bloom. The show will be held at the Yamhill County Fairgrounds in McMinnville\, Oregon\, on June 20th and 21st. \n\n\n\nHours: Friday – 10:00 am – 5:00 pm and Saturday – 10:00 am – 4:00 pm \n\n\n\nRaffle Quilt: Stars in Blue. Tickets are $5.00 each or 5 for $20.00
URL:https://quiltblox.com/event/willamette-valley-quilters-quilts-in-bloom/
LOCATION:Yamhill County Fairgrounds\, 2070 NE Lafayette Avenue\, McMinnville\, Oregon\, 97128\, United States
CATEGORIES:Quilt Shows
ATTACH;FMTTYPE=image/jpeg:https://quiltblox.com/wp-content/uploads/2025/01/Screenshot-2025-01-30-at-6.36.40 AM.jpg
END:VEVENT
END:VCALENDAR