BEGIN:VCALENDAR
VERSION:2.0
PRODID:-//Quiltblox.com - ECPv6.15.20//NONSGML v1.0//EN
CALSCALE:GREGORIAN
METHOD:PUBLISH
X-WR-CALNAME:Quiltblox.com
X-ORIGINAL-URL:https://quiltblox.com
X-WR-CALDESC:Events for Quiltblox.com
REFRESH-INTERVAL;VALUE=DURATION:PT1H
X-Robots-Tag:noindex
X-PUBLISHED-TTL:PT1H
BEGIN:VTIMEZONE
TZID:America/Los_Angeles
BEGIN:DAYLIGHT
TZOFFSETFROM:-0800
TZOFFSETTO:-0700
TZNAME:PDT
DTSTART:20250309T100000
END:DAYLIGHT
BEGIN:STANDARD
TZOFFSETFROM:-0700
TZOFFSETTO:-0800
TZNAME:PST
DTSTART:20251102T090000
END:STANDARD
BEGIN:DAYLIGHT
TZOFFSETFROM:-0800
TZOFFSETTO:-0700
TZNAME:PDT
DTSTART:20260308T100000
END:DAYLIGHT
BEGIN:STANDARD
TZOFFSETFROM:-0700
TZOFFSETTO:-0800
TZNAME:PST
DTSTART:20261101T090000
END:STANDARD
BEGIN:DAYLIGHT
TZOFFSETFROM:-0800
TZOFFSETTO:-0700
TZNAME:PDT
DTSTART:20270314T100000
END:DAYLIGHT
BEGIN:STANDARD
TZOFFSETFROM:-0700
TZOFFSETTO:-0800
TZNAME:PST
DTSTART:20271107T090000
END:STANDARD
END:VTIMEZONE
BEGIN:VEVENT
DTSTART;TZID=America/Los_Angeles:20260201T080000
DTEND;TZID=America/Los_Angeles:20260331T170000
DTSTAMP:20260420T120858
CREATED:20260124T224932Z
LAST-MODIFIED:20260124T234028Z
UID:12246-1769932800-1774976400@quiltblox.com
SUMMARY:All Arizona - New Mexico Shop Hop
DESCRIPTION:The All Arizona – New Mexico Shop Hop™ Magazine is your guide to all things about the event. In addition\, you will find patterns\, articles\, and resources for sewing and quilting. Your magazine will be a great reference even after the Shop Hop has ended. Use it as inspiration for a new project\, or to find a quilt shop as you meander through Arizona and New Mexico. \n\n\n\n\nMagazines are only available from participating Shop Hop stores. Many stores will also sell the magazine online or over the phone and mail it to you.\n\n\n\nMagazines will be in stores about 6 weeks before the event begins.\n\n\n\nYour magazine will include an official Passport. Each person in your party will need a Passport in order to register for prizes.\n\n\n\nRegional and state maps are included in the magazine to help you plan your routes. \n\n\n\nThe magazine notes special hours for participating Shop Hop stores.
URL:https://quiltblox.com/event/all-arizona-new-mexico-shop-hop-february-and-march/
CATEGORIES:Shop Hop
ATTACH;FMTTYPE=image/png:https://quiltblox.com/wp-content/uploads/2026/01/Screenshot-2026-01-24-at-2.48.07-PM.png
END:VEVENT
BEGIN:VEVENT
DTSTART;TZID=America/Los_Angeles:20260301T080000
DTEND;TZID=America/Los_Angeles:20260331T170000
DTSTAMP:20260420T120858
CREATED:20250130T224526Z
LAST-MODIFIED:20260113T220451Z
UID:10161-1772352000-1774976400@quiltblox.com
SUMMARY:National Quilting Month
DESCRIPTION:National Quilting Month is celebrated each year in March. It’s a time to celebrate the art of quilting\, the skill and love that goes into making quilts\, and the stories behind them. Shops around the country – and online will be planning fun activities\, demos\, and sales. It’s a great time to visit your local quilt shop! \n\n\n\nHow to celebrate  \n\n\n\n\nTake a quilting class\n\n\n\nAttend a quilt fair\n\n\n\nShare the story of a family quilt\n\n\n\nPost on social media using #NationalQuiltingDay\n\n\n\nHighlight why quilters enjoy quilting\n\n\n\nParticipate in a charity quilt auction\n\n\n\n\nNational Quilting Day \n\n\n\nNational Quilting Day is celebrated on the third Saturday of March. It’s a day to recognize the love\, skill\, and long hours that go into making quilts. 
URL:https://quiltblox.com/event/national-quilting-month/
CATEGORIES:Celebrate Quilting Days
ATTACH;FMTTYPE=image/jpeg:https://quiltblox.com/wp-content/uploads/2025/01/National-Quilting-Month.jpg
END:VEVENT
BEGIN:VEVENT
DTSTART;TZID=America/Los_Angeles:20260301T100000
DTEND;TZID=America/Los_Angeles:20260430T170000
DTSTAMP:20260420T120858
CREATED:20241231T002430Z
LAST-MODIFIED:20260113T225409Z
UID:9967-1772359200-1777568400@quiltblox.com
SUMMARY:All Florida Shop Hop
DESCRIPTION:The All Florida Shop Hop™ Magazine is your guide to all things about the event. In addition\, you will find patterns\, articles\, and resources for sewing and quilting. Your magazine will be a great reference even after the Shop Hop has ended. Use it as inspiration for a new project\, or to find a quilt shop as you meander through Florida.  \n\n\n\n\nMagazines are only available from participating Shop Hop stores. Many stores will also sell the magazine online or over the phone and mail it to you.\n\n\n\nMagazines will be in stores about 6 weeks before the event begins.\n\n\n\nYour magazine will include an official Passport. Each person in your party will need a Passport in order to register for prizes.\n\n\n\nRegional and state maps are included in the magazine to help you plan your routes. \n\n\n\nThe magazine notes special hours for participating Shop Hop stores.
URL:https://quiltblox.com/event/all-florida-shop-hop/
CATEGORIES:Shop Hop
ATTACH;FMTTYPE=image/jpeg:https://quiltblox.com/wp-content/uploads/2024/12/All-Florida-Shop-Hop.jpg
END:VEVENT
BEGIN:VEVENT
DTSTART;TZID=America/Los_Angeles:20260301T100000
DTEND;TZID=America/Los_Angeles:20260430T170000
DTSTAMP:20260420T120858
CREATED:20241231T005752Z
LAST-MODIFIED:20260113T224241Z
UID:9979-1772359200-1777568400@quiltblox.com
SUMMARY:All Texas Shop Hop
DESCRIPTION:The All Texas Shop Hop™ Magazine is your guide to all things about the event. In addition\, you will find patterns\, articles\, and resources for sewing and quilting. Your magazine will be a great reference even after the Shop Hop has ended. Use it as inspiration for a new project\, or to find a quilt shop as you meander through Texas.  \n\n\n\n\nMagazines are only available from participating Shop Hop stores. Many stores will also sell the magazine online or over the phone and mail it to you.\n\n\n\nMagazines will be in stores about 6 weeks before the event begins.\n\n\n\nYour magazine will include an official Passport. Each person in your party will need a Passport in order to register for prizes.\n\n\n\nRegional and state maps are included in the magazine to help you plan your routes. \n\n\n\nThe magazine notes special hours for participating Shop Hop stores.
URL:https://quiltblox.com/event/all-texas-shop-hop/
CATEGORIES:Shop Hop
ATTACH;FMTTYPE=image/jpeg:https://quiltblox.com/wp-content/uploads/2024/12/All-Texas-Shop-Hop.jpg
END:VEVENT
BEGIN:VEVENT
DTSTART;TZID=America/Los_Angeles:20260313T100000
DTEND;TZID=America/Los_Angeles:20260315T160000
DTSTAMP:20260420T120858
CREATED:20240222T220916Z
LAST-MODIFIED:20260113T221859Z
UID:8014-1773396000-1773590400@quiltblox.com
SUMMARY:Quilters Anonymous Quilt Show
DESCRIPTION:Presented by Quilters Anonymous – the theme this year is Surrounded by Color. It opens Friday\, March 13\, and continues through March 15. More than 400 quilts made by our members fill up the event center at the Evergreen State Fairgrounds\, 14405 179th Ave. SE in Monroe\, Washington. Here are the details: \n\n\n\nThe show opens at 10 am and is open until 5 p.m. Friday & Saturday\, March 13 & 14. On Sunday\, March 15\, the show is open from 10 a.m. to 4 p.m. Tickets are sold at the door for $15\, good for all three days. Credit cards are accepted. Children 12 and under are free. Parking is free. Food and coffee are available at a reasonable cost.  \n\n\n\nThere are vendors offering fabric\, patterns\, sales\, sewing machines\, and a variety of other items that quilters love.  \n\n\n\nNEW! Silent Auction: 12 exceptional quilts\, donated by our members and chosen by a jury\, will be on display at the show and can be bid on through an online auction app \n\n\n\nDemonstrations by talented members and several of the vendors take place on the hour from 11 am to 3 pm Friday and Saturday and 11 am to 2 pm Sunday. \n\n\n\nMore information is available at quiltersanonymous.org. If you have questions\, email quiltshowinfo@quiltersanonymous.org. 
URL:https://quiltblox.com/event/quilters-anonymous-quilt-show/
LOCATION:Evergreen State Fairgrounds\, 14405 179th Avenue\, Monroe\, Washington\, 98272
CATEGORIES:Quilt Shows
ATTACH;FMTTYPE=image/jpeg:https://quiltblox.com/wp-content/uploads/2024/02/Quilters-Anonymous-Quilt-Show-2026.jpg
END:VEVENT
END:VCALENDAR