BEGIN:VCALENDAR
VERSION:2.0
PRODID:-//Quiltblox.com - ECPv6.15.20//NONSGML v1.0//EN
CALSCALE:GREGORIAN
METHOD:PUBLISH
X-ORIGINAL-URL:https://quiltblox.com
X-WR-CALDESC:Events for Quiltblox.com
REFRESH-INTERVAL;VALUE=DURATION:PT1H
X-Robots-Tag:noindex
X-PUBLISHED-TTL:PT1H
BEGIN:VTIMEZONE
TZID:America/Los_Angeles
BEGIN:DAYLIGHT
TZOFFSETFROM:-0800
TZOFFSETTO:-0700
TZNAME:PDT
DTSTART:20250309T100000
END:DAYLIGHT
BEGIN:STANDARD
TZOFFSETFROM:-0700
TZOFFSETTO:-0800
TZNAME:PST
DTSTART:20251102T090000
END:STANDARD
BEGIN:DAYLIGHT
TZOFFSETFROM:-0800
TZOFFSETTO:-0700
TZNAME:PDT
DTSTART:20260308T100000
END:DAYLIGHT
BEGIN:STANDARD
TZOFFSETFROM:-0700
TZOFFSETTO:-0800
TZNAME:PST
DTSTART:20261101T090000
END:STANDARD
BEGIN:DAYLIGHT
TZOFFSETFROM:-0800
TZOFFSETTO:-0700
TZNAME:PDT
DTSTART:20270314T100000
END:DAYLIGHT
BEGIN:STANDARD
TZOFFSETFROM:-0700
TZOFFSETTO:-0800
TZNAME:PST
DTSTART:20271107T090000
END:STANDARD
END:VTIMEZONE
BEGIN:VEVENT
DTSTART;TZID=America/Los_Angeles:20260201T080000
DTEND;TZID=America/Los_Angeles:20260331T170000
DTSTAMP:20260420T121100
CREATED:20260124T224932Z
LAST-MODIFIED:20260124T234028Z
UID:12246-1769932800-1774976400@quiltblox.com
SUMMARY:All Arizona - New Mexico Shop Hop
DESCRIPTION:The All Arizona – New Mexico Shop Hop™ Magazine is your guide to all things about the event. In addition\, you will find patterns\, articles\, and resources for sewing and quilting. Your magazine will be a great reference even after the Shop Hop has ended. Use it as inspiration for a new project\, or to find a quilt shop as you meander through Arizona and New Mexico. \n\n\n\n\nMagazines are only available from participating Shop Hop stores. Many stores will also sell the magazine online or over the phone and mail it to you.\n\n\n\nMagazines will be in stores about 6 weeks before the event begins.\n\n\n\nYour magazine will include an official Passport. Each person in your party will need a Passport in order to register for prizes.\n\n\n\nRegional and state maps are included in the magazine to help you plan your routes. \n\n\n\nThe magazine notes special hours for participating Shop Hop stores.
URL:https://quiltblox.com/event/all-arizona-new-mexico-shop-hop-february-and-march/
CATEGORIES:Shop Hop
ATTACH;FMTTYPE=image/png:https://quiltblox.com/wp-content/uploads/2026/01/Screenshot-2026-01-24-at-2.48.07-PM.png
END:VEVENT
BEGIN:VEVENT
DTSTART;TZID=America/Los_Angeles:20260212T100000
DTEND;TZID=America/Los_Angeles:20260214T160000
DTSTAMP:20260420T121100
CREATED:20230831T164428Z
LAST-MODIFIED:20260113T234309Z
UID:6392-1770890400-1771084800@quiltblox.com
SUMMARY:Pacific Northwest Quilt Festival
DESCRIPTION:Welcome to the Pacific Northwest Quilt Festival. The first one of the new year for the Salem\, Oregon area. Over 30 vendors and over 300 quilts on display or for sale. This show is held at the Oregon State Fairgrounds and Exposition Center – Columbia Hall and is a 3-day event. A Raffle Quilt and challenge banners will also be on display. Join the fun for this 3-day event!
URL:https://quiltblox.com/event/pacific-northwest-quilt-festival/
LOCATION:Oregon State Fair & Exposition Center\, 2330 17th St NE\, Salem\, Oregon\, 97301
CATEGORIES:Quilt Shows
ATTACH;FMTTYPE=image/jpeg:https://quiltblox.com/wp-content/uploads/2023/08/Pacific-Northwest-Quilt-Festival-2026.jpg
ORGANIZER;CN="https%3A//pnwquiltfestival.com/":MAILTO:PNWQuiltFestival@gmail.com
END:VEVENT
END:VCALENDAR