BEGIN:VCALENDAR
VERSION:2.0
PRODID:-//Quiltblox.com - ECPv6.15.20//NONSGML v1.0//EN
CALSCALE:GREGORIAN
METHOD:PUBLISH
X-ORIGINAL-URL:https://quiltblox.com
X-WR-CALDESC:Events for Quiltblox.com
REFRESH-INTERVAL;VALUE=DURATION:PT1H
X-Robots-Tag:noindex
X-PUBLISHED-TTL:PT1H
BEGIN:VTIMEZONE
TZID:America/Los_Angeles
BEGIN:DAYLIGHT
TZOFFSETFROM:-0800
TZOFFSETTO:-0700
TZNAME:PDT
DTSTART:20250309T100000
END:DAYLIGHT
BEGIN:STANDARD
TZOFFSETFROM:-0700
TZOFFSETTO:-0800
TZNAME:PST
DTSTART:20251102T090000
END:STANDARD
BEGIN:DAYLIGHT
TZOFFSETFROM:-0800
TZOFFSETTO:-0700
TZNAME:PDT
DTSTART:20260308T100000
END:DAYLIGHT
BEGIN:STANDARD
TZOFFSETFROM:-0700
TZOFFSETTO:-0800
TZNAME:PST
DTSTART:20261101T090000
END:STANDARD
BEGIN:DAYLIGHT
TZOFFSETFROM:-0800
TZOFFSETTO:-0700
TZNAME:PDT
DTSTART:20270314T100000
END:DAYLIGHT
BEGIN:STANDARD
TZOFFSETFROM:-0700
TZOFFSETTO:-0800
TZNAME:PST
DTSTART:20271107T090000
END:STANDARD
END:VTIMEZONE
BEGIN:VEVENT
DTSTART;TZID=America/Los_Angeles:20260121T093000
DTEND;TZID=America/Los_Angeles:20260124T163000
DTSTAMP:20260420T134052
CREATED:20240827T132213Z
LAST-MODIFIED:20251118T181039Z
UID:9161-1768987800-1769272200@quiltblox.com
SUMMARY:Road to California
DESCRIPTION:Discover the world of quilting with us … Road to California presents the Quilter’s Conference and Showcase. Contest rules & online early entry is now open. Preview Night – January 20\, 2026
URL:https://quiltblox.com/event/road-to-california-2024-2/
LOCATION:Ontario Convention Center\, 2000 E Convention Center Way\, Ontario\, California
CATEGORIES:Quilt Shows
ATTACH;FMTTYPE=image/jpeg:https://quiltblox.com/wp-content/uploads/2024/08/Screenshot-2025-11-18-at-9.35.34-AM.jpg
END:VEVENT
BEGIN:VEVENT
DTSTART;TZID=America/Los_Angeles:20260124T080000
DTEND;TZID=America/Los_Angeles:20260124T170000
DTSTAMP:20260420T134052
CREATED:20240827T142209Z
LAST-MODIFIED:20251118T175137Z
UID:6397-1769241600-1769274000@quiltblox.com
SUMMARY:Local Quilt Shop Day
DESCRIPTION:Local Quilt Shop Day is a worldwide event designed to raise awareness of the importance of independent quilt shops to the local economy. It is a day for consumers and retailers to celebrate the creative pursuits of quilters\, sewists\, fabric enthusiasts\, and crafters everywhere and to support the local quilt shops that make it all possible. \n\n\n\nThis event is held annually on the fourth Saturday in January. \n\n\n\nYour local quilt shop may be planning to celebrate the day with special events. Contact them to find out more about their plans and ask them how you can get involved!
URL:https://quiltblox.com/event/local-quilt-shop-day-2/
CATEGORIES:Celebrate Quilting Days
ATTACH;FMTTYPE=image/png:https://quiltblox.com/wp-content/uploads/2024/08/Screenshot-2025-11-18-at-9.42.26-AM.png
END:VEVENT
END:VCALENDAR